BEGIN:VCALENDAR
VERSION:2.0
PRODID:-//Outreach Ministries of Seymour - ECPv6.15.17.1//NONSGML v1.0//EN
CALSCALE:GREGORIAN
METHOD:PUBLISH
X-WR-CALNAME:Outreach Ministries of Seymour
X-ORIGINAL-URL:https://outreachseymour.org
X-WR-CALDESC:Events for Outreach Ministries of Seymour
REFRESH-INTERVAL;VALUE=DURATION:PT1H
X-Robots-Tag:noindex
X-PUBLISHED-TTL:PT1H
BEGIN:VTIMEZONE
TZID:America/Indiana/Indianapolis
BEGIN:DAYLIGHT
TZOFFSETFROM:-0500
TZOFFSETTO:-0400
TZNAME:EDT
DTSTART:20240310T070000
END:DAYLIGHT
BEGIN:STANDARD
TZOFFSETFROM:-0400
TZOFFSETTO:-0500
TZNAME:EST
DTSTART:20241103T060000
END:STANDARD
BEGIN:DAYLIGHT
TZOFFSETFROM:-0500
TZOFFSETTO:-0400
TZNAME:EDT
DTSTART:20250309T070000
END:DAYLIGHT
BEGIN:STANDARD
TZOFFSETFROM:-0400
TZOFFSETTO:-0500
TZNAME:EST
DTSTART:20251102T060000
END:STANDARD
BEGIN:DAYLIGHT
TZOFFSETFROM:-0500
TZOFFSETTO:-0400
TZNAME:EDT
DTSTART:20260308T070000
END:DAYLIGHT
BEGIN:STANDARD
TZOFFSETFROM:-0400
TZOFFSETTO:-0500
TZNAME:EST
DTSTART:20261101T060000
END:STANDARD
END:VTIMEZONE
BEGIN:VEVENT
DTSTART;VALUE=DATE:20250227
DTEND;VALUE=DATE:20250305
DTSTAMP:20260421T121722
CREATED:20250130T164102Z
LAST-MODIFIED:20250130T164114Z
UID:1957-1740614400-1741132799@outreachseymour.org
SUMMARY:New Orleans Outreach Trip
DESCRIPTION:
URL:https://outreachseymour.org/event/new-orleans-outreach-trip/
LOCATION:New Orleans\, New Orleans\, LA\, United States
END:VEVENT
BEGIN:VEVENT
DTSTART;VALUE=DATE:20250222
DTEND;VALUE=DATE:20250223
DTSTAMP:20260421T121722
CREATED:20250130T163758Z
LAST-MODIFIED:20250130T163758Z
UID:1955-1740182400-1740268799@outreachseymour.org
SUMMARY:OMS @ Kasting
DESCRIPTION:
URL:https://outreachseymour.org/event/oms-kasting/
END:VEVENT
BEGIN:VEVENT
DTSTART;TZID=America/Indiana/Indianapolis:20250221T190000
DTEND;TZID=America/Indiana/Indianapolis:20250221T210000
DTSTAMP:20260421T121722
CREATED:20250130T163652Z
LAST-MODIFIED:20250130T163652Z
UID:1953-1740164400-1740171600@outreachseymour.org
SUMMARY:NOLA Training
DESCRIPTION:
URL:https://outreachseymour.org/event/nola-training-4/
END:VEVENT
BEGIN:VEVENT
DTSTART;VALUE=DATE:20250215
DTEND;VALUE=DATE:20250217
DTSTAMP:20260421T121722
CREATED:20250130T163340Z
LAST-MODIFIED:20250130T163340Z
UID:1951-1739577600-1739750399@outreachseymour.org
SUMMARY:OMS To Help REC
DESCRIPTION:
URL:https://outreachseymour.org/event/oms-to-help-rec-2/
END:VEVENT
BEGIN:VEVENT
DTSTART;TZID=America/Indiana/Indianapolis:20250214T190000
DTEND;TZID=America/Indiana/Indianapolis:20250214T210000
DTSTAMP:20260421T121722
CREATED:20250130T163139Z
LAST-MODIFIED:20250130T163139Z
UID:1949-1739559600-1739566800@outreachseymour.org
SUMMARY:NOLA Training
DESCRIPTION:
URL:https://outreachseymour.org/event/nola-training-3/
END:VEVENT
BEGIN:VEVENT
DTSTART;VALUE=DATE:20250208
DTEND;VALUE=DATE:20250210
DTSTAMP:20260421T121722
CREATED:20250130T162857Z
LAST-MODIFIED:20250130T162857Z
UID:1947-1738972800-1739145599@outreachseymour.org
SUMMARY:OMS To Help REC
DESCRIPTION:
URL:https://outreachseymour.org/event/oms-to-help-rec/
END:VEVENT
BEGIN:VEVENT
DTSTART;TZID=America/Indiana/Indianapolis:20250207T190000
DTEND;TZID=America/Indiana/Indianapolis:20250207T210000
DTSTAMP:20260421T121722
CREATED:20250130T162250Z
LAST-MODIFIED:20250130T162250Z
UID:1945-1738954800-1738962000@outreachseymour.org
SUMMARY:NOLA Training
DESCRIPTION:
URL:https://outreachseymour.org/event/nola-training-2/
END:VEVENT
BEGIN:VEVENT
DTSTART;TZID=America/Indiana/Indianapolis:20250131T190000
DTEND;TZID=America/Indiana/Indianapolis:20250131T210000
DTSTAMP:20260421T121722
CREATED:20250130T161139Z
LAST-MODIFIED:20250130T161148Z
UID:1943-1738350000-1738357200@outreachseymour.org
SUMMARY:NOLA Training
DESCRIPTION:
URL:https://outreachseymour.org/event/nola-training/
END:VEVENT
END:VCALENDAR