BEGIN:VCALENDAR
VERSION:2.0
PRODID:-//Outreach Ministries of Seymour - ECPv6.15.17.1//NONSGML v1.0//EN
CALSCALE:GREGORIAN
METHOD:PUBLISH
X-WR-CALNAME:Outreach Ministries of Seymour
X-ORIGINAL-URL:https://outreachseymour.org
X-WR-CALDESC:Events for Outreach Ministries of Seymour
REFRESH-INTERVAL;VALUE=DURATION:PT1H
X-Robots-Tag:noindex
X-PUBLISHED-TTL:PT1H
BEGIN:VTIMEZONE
TZID:America/Indiana/Indianapolis
BEGIN:DAYLIGHT
TZOFFSETFROM:-0500
TZOFFSETTO:-0400
TZNAME:EDT
DTSTART:20240310T070000
END:DAYLIGHT
BEGIN:STANDARD
TZOFFSETFROM:-0400
TZOFFSETTO:-0500
TZNAME:EST
DTSTART:20241103T060000
END:STANDARD
BEGIN:DAYLIGHT
TZOFFSETFROM:-0500
TZOFFSETTO:-0400
TZNAME:EDT
DTSTART:20250309T070000
END:DAYLIGHT
BEGIN:STANDARD
TZOFFSETFROM:-0400
TZOFFSETTO:-0500
TZNAME:EST
DTSTART:20251102T060000
END:STANDARD
BEGIN:DAYLIGHT
TZOFFSETFROM:-0500
TZOFFSETTO:-0400
TZNAME:EDT
DTSTART:20260308T070000
END:DAYLIGHT
BEGIN:STANDARD
TZOFFSETFROM:-0400
TZOFFSETTO:-0500
TZNAME:EST
DTSTART:20261101T060000
END:STANDARD
END:VTIMEZONE
BEGIN:VEVENT
DTSTART;TZID=America/Indiana/Indianapolis:20251216T080000
DTEND;TZID=America/Indiana/Indianapolis:20251216T090000
DTSTAMP:20260421T061431
CREATED:20250213T004523Z
LAST-MODIFIED:20250213T004523Z
UID:2269-1765872000-1765875600@outreachseymour.org
SUMMARY:Centerstone Breakfast
DESCRIPTION:
URL:https://outreachseymour.org/event/centerstone-breakfast-5/
END:VEVENT
BEGIN:VEVENT
DTSTART;VALUE=DATE:20251213
DTEND;VALUE=DATE:20251214
DTSTAMP:20260421T061431
CREATED:20250131T195106Z
LAST-MODIFIED:20250131T195106Z
UID:2066-1765584000-1765670399@outreachseymour.org
SUMMARY:Final OMS Outreach Meal of 2025 at Kessler Park
DESCRIPTION:
URL:https://outreachseymour.org/event/final-oms-outreach-meal-of-2025-at-kessler-park/
END:VEVENT
BEGIN:VEVENT
DTSTART;VALUE=DATE:20251127
DTEND;VALUE=DATE:20251128
DTSTAMP:20260421T061431
CREATED:20250131T194950Z
LAST-MODIFIED:20250131T194950Z
UID:2064-1764201600-1764287999@outreachseymour.org
SUMMARY:OMS Thanksgiving Event at Kessler Park
DESCRIPTION:
URL:https://outreachseymour.org/event/oms-thanksgiving-event-at-kessler-park/
END:VEVENT
BEGIN:VEVENT
DTSTART;VALUE=DATE:20251122
DTEND;VALUE=DATE:20251123
DTSTAMP:20260421T061431
CREATED:20250131T194853Z
LAST-MODIFIED:20250131T194853Z
UID:2062-1763769600-1763855999@outreachseymour.org
SUMMARY:OMS @ Kasting
DESCRIPTION:
URL:https://outreachseymour.org/event/oms-kasting-3/
END:VEVENT
BEGIN:VEVENT
DTSTART;TZID=America/Indiana/Indianapolis:20251118T080000
DTEND;TZID=America/Indiana/Indianapolis:20251118T090000
DTSTAMP:20260421T061431
CREATED:20250213T004501Z
LAST-MODIFIED:20250213T004501Z
UID:2266-1763452800-1763456400@outreachseymour.org
SUMMARY:Centerstone Breakfast
DESCRIPTION:
URL:https://outreachseymour.org/event/centerstone-breakfast-4/
END:VEVENT
BEGIN:VEVENT
DTSTART;TZID=America/Indiana/Indianapolis:20251117T190000
DTEND;TZID=America/Indiana/Indianapolis:20251117T210000
DTSTAMP:20260421T061431
CREATED:20250131T194825Z
LAST-MODIFIED:20250131T194825Z
UID:2059-1763406000-1763413200@outreachseymour.org
SUMMARY:OMS Volunteer Training
DESCRIPTION:
URL:https://outreachseymour.org/event/oms-volunteer-training-9/
END:VEVENT
BEGIN:VEVENT
DTSTART;VALUE=DATE:20251108
DTEND;VALUE=DATE:20251109
DTSTAMP:20260421T061431
CREATED:20250131T194742Z
LAST-MODIFIED:20250131T194742Z
UID:2057-1762560000-1762646399@outreachseymour.org
SUMMARY:OMS in Columbus\, IN
DESCRIPTION:
URL:https://outreachseymour.org/event/oms-in-columbus-in/
END:VEVENT
BEGIN:VEVENT
DTSTART;TZID=America/Indiana/Indianapolis:20251107T100000
DTEND;TZID=America/Indiana/Indianapolis:20251107T120000
DTSTAMP:20260421T061431
CREATED:20250131T194713Z
LAST-MODIFIED:20250131T194713Z
UID:2055-1762509600-1762516800@outreachseymour.org
SUMMARY:OMS Board Meeting
DESCRIPTION:
URL:https://outreachseymour.org/event/oms-board-meeting-5/
END:VEVENT
BEGIN:VEVENT
DTSTART;TZID=America/Indiana/Indianapolis:20251027T190000
DTEND;TZID=America/Indiana/Indianapolis:20251027T210000
DTSTAMP:20260421T061431
CREATED:20250131T190625Z
LAST-MODIFIED:20250131T190625Z
UID:2052-1761591600-1761598800@outreachseymour.org
SUMMARY:OMS Volunteer Training
DESCRIPTION:
URL:https://outreachseymour.org/event/oms-volunteer-training-8/
END:VEVENT
BEGIN:VEVENT
DTSTART;VALUE=DATE:20251025
DTEND;VALUE=DATE:20251026
DTSTAMP:20260421T061431
CREATED:20250131T190551Z
LAST-MODIFIED:20250131T190551Z
UID:2049-1761350400-1761436799@outreachseymour.org
SUMMARY:OMS @ Kasting
DESCRIPTION:
URL:https://outreachseymour.org/event/oms-kasting-2/
END:VEVENT
BEGIN:VEVENT
DTSTART;TZID=America/Indiana/Indianapolis:20251021T080000
DTEND;TZID=America/Indiana/Indianapolis:20251021T090000
DTSTAMP:20260421T061431
CREATED:20250213T004227Z
LAST-MODIFIED:20250213T004227Z
UID:2264-1761033600-1761037200@outreachseymour.org
SUMMARY:Centerstone Breakfast
DESCRIPTION:
URL:https://outreachseymour.org/event/centerstone-breakfast-3/
END:VEVENT
BEGIN:VEVENT
DTSTART;VALUE=DATE:20251011
DTEND;VALUE=DATE:20251012
DTSTAMP:20260421T061431
CREATED:20250131T190523Z
LAST-MODIFIED:20250131T190523Z
UID:2047-1760140800-1760227199@outreachseymour.org
SUMMARY:OMS in North Vernon\, IN @ CSL
DESCRIPTION:
URL:https://outreachseymour.org/event/oms-in-north-vernon-in-csl/
END:VEVENT
BEGIN:VEVENT
DTSTART;VALUE=DATE:20251004
DTEND;VALUE=DATE:20251005
DTSTAMP:20260421T061431
CREATED:20250131T190444Z
LAST-MODIFIED:20250131T190444Z
UID:2045-1759536000-1759622399@outreachseymour.org
SUMMARY:Thunder Run Event
DESCRIPTION:
URL:https://outreachseymour.org/event/thunder-run-event/
END:VEVENT
BEGIN:VEVENT
DTSTART;VALUE=DATE:20250927
DTEND;VALUE=DATE:20250928
DTSTAMP:20260421T061431
CREATED:20250131T184810Z
LAST-MODIFIED:20250131T184810Z
UID:2043-1758931200-1759017599@outreachseymour.org
SUMMARY:OMS Event at Kessler Park
DESCRIPTION:
URL:https://outreachseymour.org/event/oms-event-at-kessler-park-3/
END:VEVENT
BEGIN:VEVENT
DTSTART;TZID=America/Indiana/Indianapolis:20250922T190000
DTEND;TZID=America/Indiana/Indianapolis:20250922T210000
DTSTAMP:20260421T061431
CREATED:20250131T184737Z
LAST-MODIFIED:20250131T184737Z
UID:2040-1758567600-1758574800@outreachseymour.org
SUMMARY:OMS Volunteer Training
DESCRIPTION:
URL:https://outreachseymour.org/event/oms-volunteer-training-7/
END:VEVENT
BEGIN:VEVENT
DTSTART;VALUE=DATE:20250918
DTEND;VALUE=DATE:20250922
DTSTAMP:20260421T061431
CREATED:20250131T184701Z
LAST-MODIFIED:20250131T184701Z
UID:2038-1758153600-1758499199@outreachseymour.org
SUMMARY:Fall FISH Retreat
DESCRIPTION:
URL:https://outreachseymour.org/event/fall-fish-retreat/
END:VEVENT
BEGIN:VEVENT
DTSTART;VALUE=DATE:20250911
DTEND;VALUE=DATE:20250916
DTSTAMP:20260421T061431
CREATED:20250131T184627Z
LAST-MODIFIED:20250131T184627Z
UID:2036-1757548800-1757980799@outreachseymour.org
SUMMARY:Outcry in Virginia
DESCRIPTION:
URL:https://outreachseymour.org/event/outcry-in-virginia/
END:VEVENT
BEGIN:VEVENT
DTSTART;TZID=America/Indiana/Indianapolis:20250905T100000
DTEND;TZID=America/Indiana/Indianapolis:20250905T120000
DTSTAMP:20260421T061431
CREATED:20250131T184557Z
LAST-MODIFIED:20250131T184557Z
UID:2034-1757066400-1757073600@outreachseymour.org
SUMMARY:OMS Board Meeting
DESCRIPTION:
URL:https://outreachseymour.org/event/oms-board-meeting-4/
END:VEVENT
BEGIN:VEVENT
DTSTART;VALUE=DATE:20250830
DTEND;VALUE=DATE:20250831
DTSTAMP:20260421T061431
CREATED:20250131T183932Z
LAST-MODIFIED:20250131T183932Z
UID:2032-1756512000-1756598399@outreachseymour.org
SUMMARY:OMS Event at Shields Park
DESCRIPTION:
URL:https://outreachseymour.org/event/oms-event-at-shields-park-2/
END:VEVENT
BEGIN:VEVENT
DTSTART;TZID=America/Indiana/Indianapolis:20250825T190000
DTEND;TZID=America/Indiana/Indianapolis:20250825T210000
DTSTAMP:20260421T061431
CREATED:20250131T183849Z
LAST-MODIFIED:20250131T183849Z
UID:2029-1756148400-1756155600@outreachseymour.org
SUMMARY:OMS Volunteer Training
DESCRIPTION:
URL:https://outreachseymour.org/event/oms-volunteer-training-6/
END:VEVENT
BEGIN:VEVENT
DTSTART;VALUE=DATE:20250806
DTEND;VALUE=DATE:20250821
DTSTAMP:20260421T061431
CREATED:20250131T183746Z
LAST-MODIFIED:20250131T183746Z
UID:2027-1754438400-1755734399@outreachseymour.org
SUMMARY:Outcry West Coast
DESCRIPTION:
URL:https://outreachseymour.org/event/outcry-west-coast/
END:VEVENT
BEGIN:VEVENT
DTSTART;TZID=America/Indiana/Indianapolis:20250728T190000
DTEND;TZID=America/Indiana/Indianapolis:20250728T210000
DTSTAMP:20260421T061431
CREATED:20250131T183702Z
LAST-MODIFIED:20250131T183702Z
UID:2025-1753729200-1753736400@outreachseymour.org
SUMMARY:OMS Volunteer Training
DESCRIPTION:
URL:https://outreachseymour.org/event/oms-volunteer-training-5/
END:VEVENT
BEGIN:VEVENT
DTSTART;VALUE=DATE:20250726
DTEND;VALUE=DATE:20250727
DTSTAMP:20260421T061431
CREATED:20250131T183630Z
LAST-MODIFIED:20250131T183630Z
UID:2023-1753488000-1753574399@outreachseymour.org
SUMMARY:OMS Event at Kessler Park
DESCRIPTION:
URL:https://outreachseymour.org/event/oms-event-at-kessler-park-2/
END:VEVENT
BEGIN:VEVENT
DTSTART;VALUE=DATE:20250711
DTEND;VALUE=DATE:20250714
DTSTAMP:20260421T061431
CREATED:20250131T183105Z
LAST-MODIFIED:20250131T183105Z
UID:2021-1752192000-1752451199@outreachseymour.org
SUMMARY:Outcry in North Carolina
DESCRIPTION:
URL:https://outreachseymour.org/event/outcry-in-north-carolina/
END:VEVENT
BEGIN:VEVENT
DTSTART;TZID=America/Indiana/Indianapolis:20250703T100000
DTEND;TZID=America/Indiana/Indianapolis:20250703T120000
DTSTAMP:20260421T061431
CREATED:20250131T183036Z
LAST-MODIFIED:20250131T183036Z
UID:2019-1751536800-1751544000@outreachseymour.org
SUMMARY:OMS Board Meeting
DESCRIPTION:
URL:https://outreachseymour.org/event/oms-board-meeting-3/
END:VEVENT
BEGIN:VEVENT
DTSTART;VALUE=DATE:20250628
DTEND;VALUE=DATE:20250629
DTSTAMP:20260421T061431
CREATED:20250131T182351Z
LAST-MODIFIED:20250131T182351Z
UID:2017-1751068800-1751155199@outreachseymour.org
SUMMARY:Outcry in Dallas\, TX
DESCRIPTION:
URL:https://outreachseymour.org/event/outcry-in-dallas-tx/
END:VEVENT
BEGIN:VEVENT
DTSTART;TZID=America/Indiana/Indianapolis:20250623T190000
DTEND;TZID=America/Indiana/Indianapolis:20250623T210000
DTSTAMP:20260421T061431
CREATED:20250131T182319Z
LAST-MODIFIED:20250131T182319Z
UID:2015-1750705200-1750712400@outreachseymour.org
SUMMARY:OMS Volunteer Training
DESCRIPTION:
URL:https://outreachseymour.org/event/oms-volunteer-training-4/
END:VEVENT
BEGIN:VEVENT
DTSTART;VALUE=DATE:20250614
DTEND;VALUE=DATE:20250615
DTSTAMP:20260421T061431
CREATED:20250131T182037Z
LAST-MODIFIED:20250131T182037Z
UID:2013-1749859200-1749945599@outreachseymour.org
SUMMARY:Father's Day Outreach (TBD)
DESCRIPTION:
URL:https://outreachseymour.org/event/fathers-day-outreach-tbd/
END:VEVENT
BEGIN:VEVENT
DTSTART;VALUE=DATE:20250606
DTEND;VALUE=DATE:20250608
DTSTAMP:20260421T061431
CREATED:20250131T181948Z
LAST-MODIFIED:20250131T181955Z
UID:2010-1749168000-1749340799@outreachseymour.org
SUMMARY:OMS @ The Gathering
DESCRIPTION:
URL:https://outreachseymour.org/event/oms-at-the-gathering/
END:VEVENT
BEGIN:VEVENT
DTSTART;TZID=America/Indiana/Indianapolis:20250530T113000
DTEND;TZID=America/Indiana/Indianapolis:20250530T150000
DTSTAMP:20260421T061431
CREATED:20250131T181340Z
LAST-MODIFIED:20250211T153736Z
UID:2008-1748604600-1748617200@outreachseymour.org
SUMMARY:OMS Golf Outing
DESCRIPTION:
URL:https://outreachseymour.org/event/oms-golf-outing/
LOCATION:Shadow Wood Golf Course\, 333 North Sandy Creek Drive\, Seymour\, Indiana\, 47274\, United States
END:VEVENT
END:VCALENDAR